BEGIN:VCALENDAR
VERSION:2.0
PRODID:-//KATH - ECPv6.15.20//NONSGML v1.0//EN
CALSCALE:GREGORIAN
METHOD:PUBLISH
X-WR-CALNAME:KATH
X-ORIGINAL-URL:https://kathailand.org
X-WR-CALDESC:Events for KATH
REFRESH-INTERVAL;VALUE=DURATION:PT1H
X-Robots-Tag:noindex
X-PUBLISHED-TTL:PT1H
BEGIN:VTIMEZONE
TZID:Asia/Bangkok
BEGIN:STANDARD
TZOFFSETFROM:+0700
TZOFFSETTO:+0700
TZNAME:+07
DTSTART:20180101T000000
END:STANDARD
END:VTIMEZONE
BEGIN:VEVENT
DTSTART;VALUE=DATE:20250626
DTEND;VALUE=DATE:20250630
DTSTAMP:20260422T041239
CREATED:20250103T054717Z
LAST-MODIFIED:20250522T123013Z
UID:4523-1750896000-1751241599@kathailand.org
SUMMARY:SmartHeart presents 23rd Thailand International Dog Show
DESCRIPTION:Show Schedule                 \n        \n    \nFor Thai Dogs \n    	\n         ดาวน์โหลดตารางงานประกวด (ไทย)         \n               	\n         ดาวน์โหลดใบสมัคร         \n         \n  \nFor Foreign Dogs \n    	\n         Download Schedule (ENG)         \n              	\n         Register         \n         \n    	\n         Hotel Information         \n         \nEntry Fees\n \n 
URL:https://kathailand.org/event/impact2025/
LOCATION:Impact Exhibition & Convention Center\, Hall 5-6\, Impact Muangthong Thani\, Thailand
CATEGORIES:Dog Show
ATTACH;FMTTYPE=image/jpeg:https://kathailand.org/wp-content/uploads/2025/01/Impact2Pos.jpg
ORGANIZER;CN="The Kennel Association of Thailand":MAILTO:services@kathailand.org, info@kathailand.org
END:VEVENT
BEGIN:VEVENT
DTSTART;VALUE=DATE:20250626
DTEND;VALUE=DATE:20250630
DTSTAMP:20260422T041239
CREATED:20250522T122830Z
LAST-MODIFIED:20250522T122918Z
UID:4755-1750896000-1751241599@kathailand.org
SUMMARY:Hotel Information
DESCRIPTION:Book Your Stay for Thailand International Dog Show 2025! \n\n\nGet ready for the biggest event for dog lovers!  Join us at SmartHeart presents Thailand International Dog Show 2025 at IMPACT Muang Thong Thani from June 26 – 29\, 2025.\n\n\n Official Partner Hotels for the Event:\n Novotel Bangkok IMPACT – Luxurious stays from THB 3\,400 (includes breakfast + WiFi)\n Ibis Bangkok IMPACT – Affordable rooms from THB 2\,100 (includes breakfast + WiFi)\n Special Pet-Friendly Option at Ibis! Stay with your furry friend from THB 2\,900\n\n\n Exclusive Pet-Friendly Stay at Ibis Bangkok IMPACT:\n Bring up to 2 pets per room (max. 25 kg per pet)\n Pets are not allowed in the lobby or restaurant area\n Additional cleaning fee of THB 800/night\n\n\n Reservation Terms & Conditions:\n Limited availability! Credit card required to guarantee your booking\n Free cancellation if notified at least 14 days before check-in\n Full payment upon arrival\n\n\n For inquiries & bookings:\n Novotel: H8059-RE@accor.com |  +66 02 833-4888 (ext. 4710-4714)\n Ibis: H9060-re@accor.com |  +66 02 011-7800-4\n\n\n Download the Reservation Form & Details Here:     	\n        Download
URL:https://kathailand.org/event/accommodation/
END:VEVENT
BEGIN:VEVENT
DTSTART;VALUE=DATE:20240704
DTEND;VALUE=DATE:20240708
DTSTAMP:20260422T041239
CREATED:20240106T132249Z
LAST-MODIFIED:20240612T045023Z
UID:4043-1720051200-1720396799@kathailand.org
SUMMARY:SmartHeart presents 22nd Thailand International Dog Show
DESCRIPTION:Show Schedule                 \n        \n    \nFor Thai Dogs \n    	\n         ดาวน์โหลดตารางงานประกวด (ไทย)         \n               	\n         ดาวน์โหลดใบสมัคร         \n         \n  \nFor Foreign Dogs \n    	\n         ดาวน์โหลดตารางงานประกวด (ENG)         \n              	\n         ดาวน์โหลดใบสมัคร         \n              	\n         สมัครออนไลน์         \n         \n  \n    \n    	\n                	 Hotel Reservation for Impact Show                \n        \n    \n    \n    	\n         Download Reservation Form         \n               	\n         ดาวน์โหลดฟอร์มจองห้องพัก         \n         \n  \n \n  \nประกาศกำหนดการปิดรับสมัครงาน Thailand Dog Show 2567 \n \n  \n    \n 
URL:https://kathailand.org/event/impact2024/
LOCATION:Impact Exhibition & Convention Center\, Hall 5-6\, Impact Muangthong Thani\, Thailand
CATEGORIES:Dog Show
ORGANIZER;CN="The Kennel Association of Thailand":MAILTO:services@kathailand.org, info@kathailand.org
END:VEVENT
BEGIN:VEVENT
DTSTART;TZID=Asia/Bangkok:20230706T090000
DTEND;TZID=Asia/Bangkok:20230709T200000
DTSTAMP:20260422T041239
CREATED:20220520T092410Z
LAST-MODIFIED:20230504T032230Z
UID:2911-1688634000-1688932800@kathailand.org
SUMMARY:SmartHeart presents 21st Thailand International Dog Show
DESCRIPTION:Show Schedule                 \n        \n    \nFor Thais\n    	\n         Download Schedule TH         \n            	\n        Download Application TH        \n         \nFor Foreigners\n    	\n         Download Schedule EN        \n            	\n        Download Application EN        \n         \n 
URL:https://kathailand.org/event/impact2023/
LOCATION:Impact Exhibition & Convention Center\, Hall 5-6\, Impact Muangthong Thani\, Thailand
CATEGORIES:Dog Show
ORGANIZER;CN="The Kennel Association of Thailand":MAILTO:services@kathailand.org, info@kathailand.org
END:VEVENT
BEGIN:VEVENT
DTSTART;VALUE=DATE:20220630
DTEND;VALUE=DATE:20220704
DTSTAMP:20260422T041239
CREATED:20220520T110600Z
LAST-MODIFIED:20220523T054346Z
UID:2961-1656547200-1656892799@kathailand.org
SUMMARY:Procedure To Enter The Dog In Thailand Dog Show
DESCRIPTION:Important Information for Exhibitor who wish to bring dog to show in Thailand\n    	\n        Download Information        \n            	\n        Download Form Rore1/1        \n         \nRequirements for Importation of Dogs into Thailand\nFor exhibitor who travel with pets and seek to pass them through Thailand\, everything can be done at the port of entry by having these following required documents ready before arrival: \n1) Form Rore. 1/1 (ร. 1/1) from Thai Department of Livestock Development \n2) Health Certificate:\nThe Veterinary Certificate for Thailand must be completed in English and stamped (endorsed) by the government of the exporting country responsible for the import and export of animals. \n3) Proof of Vaccination: \nVaccination record* (must be in English) which includes\na. Pet’s details (breed\, sex\, DOB\, color\, and microchip no.)\nb. Veterinarian’s details who administrates vaccines (full name\, license number\, and\nsignature)\nc. Dog (5 Required Vaccines): Rabies**\, Canine Distemper\, Canine Hepatitis\, Canine\nParvovirus\, and Leptospirosis*** vaccines\nRemarks:\n* In case of primary or discontinuity vaccination\, animal must wait for 21 days since vaccination before departure. However animal has valid booster vaccination\, a waiting period is not required and the previous vaccination records should be attached.\n** In case of primary Rabies vaccine: animal was at least 12 weeks old at the time of administration.\n***In case of dogs that did not have a valid Leptospirosis vaccine: dogs must have a negative result for the Leptospirosis test within 30 days prior to departure. \n4) A Copy of the Pet Owner’s Passport\nRemarks: \n1. Pets must be at least 4 months old to be able to import into Thailand.\n2. Pit bull Terrier or American Staffordshire Terrier are prohibited for importation into Thailand.\n3. As long as pets don’t show any sign of illness\, they would not be quarantined.\n***However\, a quarantine officer has the discretionary authority to detain in\na quarantine station any pets/animals seeking to pass through Thailand.***\n4. More information about the Requirements for the Importation of Dogs into the Kingdom of Thailand. Please see below: \nContact Information: \nAnimal Quarantine Station at Suvarnnabhumi Airport’s Contact Information: \nFor those who travel with pets and seek to pass them through Thailand:\nPlease contact: Animal Quarantine Station (Port of Entry)\nTel+(662) 134-0636 Business Hours: 24 hrs daily \nFor those who wish to import/export pets to Thailand:\nPlease contact: Animal Quarantine Station (Cargo Terminal :Free Zone Area \,CE 1 Building )\nTel+(662) 134-7031 Business Hours 8:30am – 4:30pm\nE-mail: qsap_bkk@dld.go.th \nArrival and Import Clearance:\nUpon arrival to Thailand\, we suggest you to follow the following steps:\n1. Collect your pet on excess baggage claim area.\n2. Proceed to Animal Quarantine office\, located in the baggage claim area inside the airport\, for Import clearance.\n3. Present all required documents (Form Rore. 1/1\, Health Certificate\, Proof of Vaccination\, import permit and etc) to animal quarantine officer.\n4. The quarantine officer will then issue Import Clearance document with the current fees of 500 THB (fee is subject to change).\n5. Then you need to present Import Clearance document at custom declaration exit (red lane) to the customs officer (we suggest you to also show the dog show application form to show the customs officer that you take your dog to show in Thailand and will take the dog back to your home country without commercial purpose. \nDeparture and Export Clearance:\nKATH will arrange officer at the show site (date will be informed) to assist exhibitor for the export permit\, health certificate and related document to bring your dog back to your country (fee is depending on the destination country). Please make sure that you have all necessary documents required by your destination country to be able to take your dog back.
URL:https://kathailand.org/event/important-information-for-dogshow/
LOCATION:Impact Exhibition & Convention Center\, Hall 5-6\, Impact Muangthong Thani\, Thailand
CATEGORIES:Dog Show
ATTACH;FMTTYPE=image/jpeg:https://kathailand.org/wp-content/uploads/2022/05/BannerImpInfo2.jpg
ORGANIZER;CN="The Kennel Association of Thailand":MAILTO:services@kathailand.org, info@kathailand.org
END:VEVENT
BEGIN:VEVENT
DTSTART;TZID=Asia/Bangkok:20200423T080000
DTEND;TZID=Asia/Bangkok:20200426T200000
DTSTAMP:20260422T041239
CREATED:20190227T055933Z
LAST-MODIFIED:20200111T050334Z
UID:1046-1587628800-1587931200@kathailand.org
SUMMARY:World Dog Show 2020
DESCRIPTION:  \nWorld Dog Show 2020 : Madrid\nhttps://www.wdsmadrid2020.com
URL:https://kathailand.org/event/world-dog-show-2020/
LOCATION:Madrid\, Spain
CATEGORIES:Dog Show
ATTACH;FMTTYPE=image/gif:https://kathailand.org/wp-content/uploads/2019/02/tercer_anuncio_cierre_inscripciones_caninas_ingles-web.gif
END:VEVENT
BEGIN:VEVENT
DTSTART;VALUE=DATE:20200101
DTEND;VALUE=DATE:20210101
DTSTAMP:20260422T041239
CREATED:20200201T065555Z
LAST-MODIFIED:20200201T065631Z
UID:1781-1577836800-1609459199@kathailand.org
SUMMARY:การแข่งขัน Handler of the year 2020
DESCRIPTION:
URL:https://kathailand.org/event/%e0%b8%81%e0%b8%b2%e0%b8%a3%e0%b9%81%e0%b8%82%e0%b9%88%e0%b8%87%e0%b8%82%e0%b8%b1%e0%b8%99-handler-of-the-year-2020/
ATTACH;FMTTYPE=image/jpeg:https://kathailand.org/wp-content/uploads/2020/02/Junior-Handler.jpg
ORGANIZER;CN="The Kennel Association of Thailand":MAILTO:services@kathailand.org, info@kathailand.org
END:VEVENT
BEGIN:VEVENT
DTSTART;VALUE=DATE:20190101
DTEND;VALUE=DATE:20200101
DTSTAMP:20260422T041239
CREATED:20190227T060428Z
LAST-MODIFIED:20190228T053539Z
UID:1058-1546300800-1577836799@kathailand.org
SUMMARY:การแข่งขัน Handler of the year 2019
DESCRIPTION:NO.NAME TOTAL\n\n\n\n\n	1คุณอภิชญา สุคนธ์น้อย220\n\n\n	2คุณศุภศิลป์ ขจรประภาสันต์190\n\n\n	3คุณนครินทร์ อร่ามมณี130\n\n\n	4คุณสุกิจ ฤกษ์รุ่งฤดี100\n\n\n	5คุณธีรศักดิ์ แสงม่วง90\n\n\n	6คุณเอกพจน์ ภูริปัญญาภินันท์80\n\n\n	6คุณธณัฐฌา เกิดแก้ว80\n\n\n	7คุณต่อตระกูล ชัยยะ70\n\n\n	7คุณธนาธิป รอดวัณุณ70\n\n\n	8คุณปรเมศธ์ เกิดแก้ว60\n\n\n	8คุณอุดมศิลป์ ลิทธิชัยกุล60\n\n\n	8คุณชื่นจิตต์ มีแก้ว60\n\n\n	8คุณชล กาฬปักษิณ60\n\n\n	9คุณเอกรัฐ แสงคณะคุปต์50\n\n\n	9คุณวรพล ศิลปี50\n\n\n	9Mr.เบิร์ด ทูวินทร์50\n\n\n	10คุณเสกสม โพธิ์โชติ40\n\n\n	10คุณจตุรงค์ กองทอง40\n\n\n	10คุณฉัตริน ท้วมอ้น40\n\n\n	11Mr.Jong Hoe Young30\n\n\n	11คุณพลากร ต้นสายเพ็ชร์30\n\n\n	11คุณพิพัฒน์ ดวงตาทิพย์30\n\n\n	11คุณธิติพงษ์ รัศมีนิวัฒน์30\n\n\n	11คุณณัฐนรี ธีระเวทย์30\n\n\n	11คุณมนต์ชัย พานทอง30\n\n\n	11คุณศุภนัฐ แซ่เอียว30\n\n\n	11คุณพูลทวี ล้ออุทัย30\n\n\n	11คุณมงคล ธนมโนสุข30\n\n\n	11คุณพลกฤษณ์ ยะพรม30\n\n\n	11คุณพีรดา บวรเอนกสกุล30\n\n\n	12คุณศิญาภัสร์ ประสงค์ไพศาล20\n\n\n	12คุณศุภชัย เตชะพุฒิพันธุ์20\n\n\n	12คุณภูวเดช สืบสังข์20\n\n\n	12คุณปองคุณ สุขวิชัย20\n\n\n	12คุณอาทิตย์ มณีกาญจน์20\n\n\n	12คุณภูมินทร์ เรือนวาด20\n\n\n	12คุณพัชริกานต์ ผ่านศึก20\n\n\n	13คุณธิติพงษ์ รัศมีนิวัฒน์10\n\n\n	13คุณธีรศักดิ์ มุ่งวัฒนา10\n\n\n	13Mr. กู น่อน10\n\n\n	13คุณจิรายุธร โกมลกุล10\n\n\n	13คุณสุธิลักษณ์ 10\n\n\n	13คุณตระการ ผ่านศึก10\n\n\n	13คุณณัฐพล เกียรติประพิน10\n\n\n	13คุณณัฐชาญ สงวนทรัพย์10\n\n\n	13คุณสกุลชัย ถนัดค้า10\n\n\n	13คุณสุทิน พลัดเกตุ10\n\n\n	13พ.ต.บุญญฤทธิ์ พจน์ประพันธ์10\n\n\n	13คุณปาโมช พรมมาธิราช10\n\n\n	13คุณอำนาจ คล้ายบัว10\n\n\n	13คุณชาร ธีระเวทย์10\n\n\n\nLast updated: 8 พฤศจิกายน 2563
URL:https://kathailand.org/event/handler-2019/
ATTACH;FMTTYPE=image/gif:https://kathailand.org/wp-content/uploads/2019/02/BannerHandler2019.gif
ORGANIZER;CN="The Kennel Association of Thailand":MAILTO:services@kathailand.org, info@kathailand.org
END:VEVENT
END:VCALENDAR